BEGIN:VCALENDAR
VERSION:2.0
PRODID:-//BOPA - ECPv6.15.17.1//NONSGML v1.0//EN
CALSCALE:GREGORIAN
METHOD:PUBLISH
X-ORIGINAL-URL:https://www.bopa.org.uk
X-WR-CALDESC:Events for BOPA
REFRESH-INTERVAL;VALUE=DURATION:PT1H
X-Robots-Tag:noindex
X-PUBLISHED-TTL:PT1H
BEGIN:VTIMEZONE
TZID:Europe/London
BEGIN:DAYLIGHT
TZOFFSETFROM:+0000
TZOFFSETTO:+0100
TZNAME:BST
DTSTART:20240331T010000
END:DAYLIGHT
BEGIN:STANDARD
TZOFFSETFROM:+0100
TZOFFSETTO:+0000
TZNAME:GMT
DTSTART:20241027T010000
END:STANDARD
BEGIN:DAYLIGHT
TZOFFSETFROM:+0000
TZOFFSETTO:+0100
TZNAME:BST
DTSTART:20250330T010000
END:DAYLIGHT
BEGIN:STANDARD
TZOFFSETFROM:+0100
TZOFFSETTO:+0000
TZNAME:GMT
DTSTART:20251026T010000
END:STANDARD
BEGIN:DAYLIGHT
TZOFFSETFROM:+0000
TZOFFSETTO:+0100
TZNAME:BST
DTSTART:20260329T010000
END:DAYLIGHT
BEGIN:STANDARD
TZOFFSETFROM:+0100
TZOFFSETTO:+0000
TZNAME:GMT
DTSTART:20261025T010000
END:STANDARD
END:VTIMEZONE
BEGIN:VTIMEZONE
TZID:Europe/Paris
BEGIN:DAYLIGHT
TZOFFSETFROM:+0100
TZOFFSETTO:+0200
TZNAME:CEST
DTSTART:20240331T010000
END:DAYLIGHT
BEGIN:STANDARD
TZOFFSETFROM:+0200
TZOFFSETTO:+0100
TZNAME:CET
DTSTART:20241027T010000
END:STANDARD
BEGIN:DAYLIGHT
TZOFFSETFROM:+0100
TZOFFSETTO:+0200
TZNAME:CEST
DTSTART:20250330T010000
END:DAYLIGHT
BEGIN:STANDARD
TZOFFSETFROM:+0200
TZOFFSETTO:+0100
TZNAME:CET
DTSTART:20251026T010000
END:STANDARD
BEGIN:DAYLIGHT
TZOFFSETFROM:+0100
TZOFFSETTO:+0200
TZNAME:CEST
DTSTART:20260329T010000
END:DAYLIGHT
BEGIN:STANDARD
TZOFFSETFROM:+0200
TZOFFSETTO:+0100
TZNAME:CET
DTSTART:20261025T010000
END:STANDARD
END:VTIMEZONE
BEGIN:VEVENT
DTSTART;VALUE=DATE:20250501
DTEND;VALUE=DATE:20250503
DTSTAMP:20260421T145732
CREATED:20250227T010543Z
LAST-MODIFIED:20250227T221129Z
UID:33590-1746057600-1746230399@www.bopa.org.uk
SUMMARY:BOPA Introduction to Cancer Course May 2025 (Leeds)
DESCRIPTION:Registration opens Thursday 6th March 9am\n  \n\nThe BOPA Introduction to Course Course 2025\n\n\nWHEN: Thursday 1st & Friday 2nd May 2025\nWHERE: The Bridge Conference Centre\, Rider Street\, Leeds LS9 7BQ (1.3 miles (10 min Taxi or 20min walk) from Leeds Train Station)\nCOST: £50 per day (travel and accommodation not included)\nCONTENT: Click to see Agenda\n\n  \nDue to budget pressure\, it is likely that only one Introduction to Cancer course will be held in 2025. Moreover\, we have taken the difficult decision to charge delegates a contribution towards the running of the course in order to ensure the financial sustainability of BOPA and the long-term future of the BOPA ITC. \n  \nRest assured the content and quality of the Introduction to Cancer course will remain of the greatest value with high quality speakers. \nWe have introduced a new agenda for 2025 which incorporates additional sessions on Paediatric Oncology\, Haematology and Genomics\, as well as traditional sessions on Oncological Emergencies\, Verification and Side Effects of SACT which have received great feedback in the past. \n  \nVisit the BOPA Introduction to Course page for more information for the course. Don’t forget to follow #BOPAITC on social media for all the updates! \n  \nThe Education and Training Subcommittee \nSee our committee information page HERE 
URL:https://www.bopa.org.uk/event/bopa-itc-2025-leeds/
LOCATION:The Bridge Conference Centre\, Rider Street\, Leeds\, LS9 7BQ\, United Kingdom
CATEGORIES:Education and Training
ATTACH;FMTTYPE=image/png:https://www.bopa.org.uk/wp-content/uploads/2025/02/Inro-to-cancer_Black.png
ORGANIZER;CN="British Oncology Pharmacy Association (BOPA)":MAILTO:contact@bopa.org.uk
END:VEVENT
BEGIN:VEVENT
DTSTART;VALUE=DATE:20250509
DTEND;VALUE=DATE:20250511
DTSTAMP:20260421T145732
CREATED:20250215T124437Z
LAST-MODIFIED:20250215T124533Z
UID:33480-1746748800-1746921599@www.bopa.org.uk
SUMMARY:Clinical Pharmacy Congress (CPC) 2025
DESCRIPTION:Why Attend CPC 2025? \nCPC 2025 is the UK’s largest gathering of clinical pharmacy professionals\, offering a unique opportunity to access high-quality education\, network with peers\, and discover the latest innovations shaping the future of pharmacy. \n🔹 100+ Hours of Free Education – Stay ahead with expert-led CPD-accredited sessions covering clinical advancements\, policy updates\, and professional development.\n🔹 Learn from 200+ Leading Experts – Hear from NHS leaders\, specialist pharmacists\, and sector pioneers.\n🔹 Connect with 3\,500+ Pharmacy Professionals – Build valuable connections with colleagues from across the UK.\n🔹 Explore 150+ Exhibitors – Discover groundbreaking solutions\, technologies\, and services to enhance your practice. \nBenefits of Attending \n✔ Complimentary Exhibition Access – A dedicated exhibition designed for clinical pharmacy professionals\, showcasing the latest innovations.\n✔ Multi-Track Conference Programme – A free\, diverse agenda tailored to the needs of clinical pharmacy professionals.\n✔ Free CPD Opportunities – Gain Continuing Professional Development credits for both clinical and non-clinical roles.\n✔ Seamless Networking – A dedicated event app enables engagement before\, during\, and after the event.\n✔ Expert Education – Over 100 hours of free primary healthcare-related education.\n✔ Influential Speakers – Learn from over 200 expert speakers from the NHS and other Arm’s Length Bodies.\n✔ Hands-On Learning – ‘Try before you buy’ with 150+ exhibiting companies showcasing products designed to enhance patient outcomes and pharmacy efficiencies.\n✔ Unrivaled Networking – Connect with and re-connect with 3\,500+ pharmacy colleagues and peers. \n  \nConference Theatres & Key Themes \nKeynote Theatre \nInsights from national leaders and senior NHS England figures\, setting the strategic direction for the future of clinical pharmacy. \nClinical & Clinical Leadership Theatre \nIn-depth clinical updates on a variety of pharmacy areas\, plus sessions on clinical leadership to influence teams and improve practices. \nLeadership & Professional Development Theatre \nAdvance your career with leadership training\, career pathways\, and success stories from across the sector. \nMedicines Optimisation Workshop \nInteractive roundtable discussions covering medicines safety\, structured medication reviews\, and deprescribing strategies. \nTechnical Services Theatre \nKey topics for aseptics\, medicines storage\, and technical services professionals\, exploring best practices and innovations. \nStrategy & Policy Forum \nActionable insights on navigating policy and strategic challenges within the evolving healthcare landscape. \nIntegrated Care & Primary Care Theatre \nFocused discussions on integrated care systems\, community pharmacy\, and multidisciplinary collaboration to improve patient care. \nTechnology & Innovation Theatre \nDiscover cutting-edge digital solutions transforming pharmacy practice\, including AI\, automation\, and digital prescribing. \nShowcase Theatre \nEngage in peer-led discussions on the latest projects\, research\, and innovations within pharmacy. \nWho Should Attend? \nThis event is designed for all pharmacy professionals\, including:\n✅ Hospital pharmacists & technicians\n✅ Community pharmacists\n✅ Primary care pharmacists\n✅ Integrated care system (ICS) teams\n✅ Academia & research professionals\n✅ Industry professionals involved in pharmacy services \nHow to Register \nAttendance is completely FREE for pharmacy professionals. To secure a complimentary place\, simply register online today: \n👉 Confirm Your Place Now \nSpread the Word! Encourage your colleagues to join you at CPC 2025 and be part of the UK’s leading clinical pharmacy event. \nFor any queries\, please contact us via our website. \nWe look forward to welcoming you to CPC 2025! \n \n 
URL:https://www.bopa.org.uk/event/clinical-pharmacy-congress-cpc-2025/
LOCATION:ExCel London\, United Kingdom
CATEGORIES:Announcements,Audit and Research,Awards,Digital,Education and Training,Symposium
ATTACH;FMTTYPE=image/png:https://www.bopa.org.uk/wp-content/uploads/2025/02/BOPA.png
END:VEVENT
BEGIN:VEVENT
DTSTART;TZID=Europe/London:20250509T083000
DTEND;TZID=Europe/London:20250509T170000
DTSTAMP:20260421T145732
CREATED:20250219T093924Z
LAST-MODIFIED:20250219T093924Z
UID:33523-1746779400-1746810000@www.bopa.org.uk
SUMMARY:HPCC 2025
DESCRIPTION:The KOL Haematology Research and Strategy Forum\nIt is with great pleasure that we invite you to join us for the KOL Haematology Research and Strategy Forum\, which will take place at Central Hall Westminster\, on 9th of May 2025 \nWe’re excited to share that BOPA has partnered with Sanius Health to facilitate and elevate this year’s Haematology Patients & Carers Congress (HPCC 2025)\, Europe’s first gathering of over 1\,500+ haematology patients\, carers\, clinical leaders\, NHS policy makers\, charities and patient groups.\nThis year also marks the launch of the KOL Haematology Research & Strategy Forum\, an afternoon event\, dedicated to uniting hundreds of clinicians from across the haematology sphere\, from consultants to nurses to pharmacists\, to accelerate the current landscape and develop new strategies\, and establishing effective support systems for colleagues dealing with the pressures of the workload.\nBy participating in this Forum\, you can expect to hear from co-chairs of our Clinical Advisory Board\, Shirley D’Sa\, UCL Hospitals and Claire Harrison\, Guys and St Thomas’\, and a number of\nclinical leaders who will direct an open discourse on key issues like Rare Disease Research and Patient Support\, Collaborating on Clinical and Diagnostic Haematology\, Patient Involvement and Empowerment\, Burnout Prevention and more.\nYou can also expect to receive Bispecific Training for Haematology Nurses and Pharmacists\, led by Chantelle Hughes\, Research Nurse at UCLH and Leadership Training\, Advice and Career Growth and Support Discussions from the Former CEO of Health Education England\, NHS Leadership Academy. \nBoth events will take place on Friday 9th May; Registration for HPCC will open at 08:30 at the QEII Centre. The KOL Forum will open its doors at 12:00 and will take place just over the road\nat Central Hall\, Westminster. It would be our pleasure to welcome you at both of these unmissable events. \nAs a member of BOPA\, your attendance at both of these events is completely complimentary and you are welcome to bring along up to 2 colleagues with you. Please note\, breakfast as well as a 3-course networking lunch will be provided upon your arrival at the events.
URL:https://www.bopa.org.uk/event/hpcc-2025/
LOCATION:Central Hall\, Westminister\, Storey's Gate\, London\, SW19NH\, United Kingdom
CATEGORIES:Announcements,Audit and Research,Education and Training
END:VEVENT
BEGIN:VEVENT
DTSTART;VALUE=DATE:20250521
DTEND;VALUE=DATE:20250522
DTSTAMP:20260421T145732
CREATED:20241219T160924Z
LAST-MODIFIED:20241219T160924Z
UID:32820-1747785600-1747871999@www.bopa.org.uk
SUMMARY:British Society Of Blood And Marrow Transplantation And Cellular Therapy (BSBMTCT) - Scientific Day
DESCRIPTION:BSBMTCT Scientific Day – British Society of Blood and Marrow Transplantation
URL:https://www.bopa.org.uk/event/british-society-of-blood-and-marrow-transplantation-and-cellular-therapy-bsbmtct-scientific-day/
LOCATION:Cavendish Conference Centre\, London\, 22 Duchess Mews\, London\, W1G 9DT\, United Kingdom
ATTACH;FMTTYPE=image/png:https://www.bopa.org.uk/wp-content/uploads/2024/12/bsbmtlogo.png
END:VEVENT
BEGIN:VEVENT
DTSTART;VALUE=DATE:20250530
DTEND;VALUE=DATE:20250604
DTSTAMP:20260421T145732
CREATED:20190708T094152Z
LAST-MODIFIED:20241218T100152Z
UID:1196-1748563200-1748995199@www.bopa.org.uk
SUMMARY:American Society of Clinical Oncology (ASCO) Annual Meeting 2025
DESCRIPTION:Abstract Submission | ASCO Annual Meeting
URL:https://www.bopa.org.uk/event/american-society-of-clinical-oncology-asco-2021/
LOCATION:McCormick Place\, 2301 S King Dr\, Chicago\, IL\, IL 60616\, United States
ATTACH;FMTTYPE=image/png:https://www.bopa.org.uk/wp-content/uploads/2019/07/logo.png
END:VEVENT
END:VCALENDAR