BEGIN:VCALENDAR
VERSION:2.0
PRODID:-//BOPA - ECPv6.15.17.1//NONSGML v1.0//EN
CALSCALE:GREGORIAN
METHOD:PUBLISH
X-ORIGINAL-URL:https://www.bopa.org.uk
X-WR-CALDESC:Events for BOPA
REFRESH-INTERVAL;VALUE=DURATION:PT1H
X-Robots-Tag:noindex
X-PUBLISHED-TTL:PT1H
BEGIN:VTIMEZONE
TZID:Europe/Paris
BEGIN:DAYLIGHT
TZOFFSETFROM:+0100
TZOFFSETTO:+0200
TZNAME:CEST
DTSTART:20240331T010000
END:DAYLIGHT
BEGIN:STANDARD
TZOFFSETFROM:+0200
TZOFFSETTO:+0100
TZNAME:CET
DTSTART:20241027T010000
END:STANDARD
BEGIN:DAYLIGHT
TZOFFSETFROM:+0100
TZOFFSETTO:+0200
TZNAME:CEST
DTSTART:20250330T010000
END:DAYLIGHT
BEGIN:STANDARD
TZOFFSETFROM:+0200
TZOFFSETTO:+0100
TZNAME:CET
DTSTART:20251026T010000
END:STANDARD
BEGIN:DAYLIGHT
TZOFFSETFROM:+0100
TZOFFSETTO:+0200
TZNAME:CEST
DTSTART:20260329T010000
END:DAYLIGHT
BEGIN:STANDARD
TZOFFSETFROM:+0200
TZOFFSETTO:+0100
TZNAME:CET
DTSTART:20261025T010000
END:STANDARD
END:VTIMEZONE
BEGIN:VTIMEZONE
TZID:Europe/London
BEGIN:DAYLIGHT
TZOFFSETFROM:+0000
TZOFFSETTO:+0100
TZNAME:BST
DTSTART:20240331T010000
END:DAYLIGHT
BEGIN:STANDARD
TZOFFSETFROM:+0100
TZOFFSETTO:+0000
TZNAME:GMT
DTSTART:20241027T010000
END:STANDARD
BEGIN:DAYLIGHT
TZOFFSETFROM:+0000
TZOFFSETTO:+0100
TZNAME:BST
DTSTART:20250330T010000
END:DAYLIGHT
BEGIN:STANDARD
TZOFFSETFROM:+0100
TZOFFSETTO:+0000
TZNAME:GMT
DTSTART:20251026T010000
END:STANDARD
BEGIN:DAYLIGHT
TZOFFSETFROM:+0000
TZOFFSETTO:+0100
TZNAME:BST
DTSTART:20260329T010000
END:DAYLIGHT
BEGIN:STANDARD
TZOFFSETFROM:+0100
TZOFFSETTO:+0000
TZNAME:GMT
DTSTART:20261025T010000
END:STANDARD
END:VTIMEZONE
BEGIN:VEVENT
DTSTART;VALUE=DATE:20250330
DTEND;VALUE=DATE:20250403
DTSTAMP:20260420T150015
CREATED:20190708T093544Z
LAST-MODIFIED:20241218T101322Z
UID:1184-1743292800-1743638399@www.bopa.org.uk
SUMMARY:European Society for Blood and Marrow Transplantation (EBMT) Annual Meeting 2025
DESCRIPTION:51st Annual Meeting of the EBMT
URL:https://www.bopa.org.uk/event/european-society-for-blood-and-marrow-transplantation-ebmt-2020/
LOCATION:Florence\, Florence\, Italy
ATTACH;FMTTYPE=image/jpeg:https://www.bopa.org.uk/wp-content/uploads/2019/07/Capture-1.jpg
END:VEVENT
BEGIN:VEVENT
DTSTART;VALUE=DATE:20250403
DTEND;VALUE=DATE:20250408
DTSTAMP:20260420T150015
CREATED:20241115T112306Z
LAST-MODIFIED:20241125T233113Z
UID:32373-1743638400-1744070399@www.bopa.org.uk
SUMMARY:ISOPP CAPhO Symposium 2025
DESCRIPTION:Join the International Society of Oncology Pharmacy Practitioners and the Canadian Association of Pharmacy Oncology for leading edge education to advance your oncology pharmacy practice and knowledge! The ISOPP CAPhO Symposium 2025 will take place April 3-6 (Symposium) and April 7 (Masterclasses) at the Victoria Conference Centre located in the vibrant heart of downtown Victoria\, British Columbia\, Canada\, where land meets sea and cultures converge.  \nThe Symposium will feature two CAPhO Workshops on Thursday\, April 3\, and two ISOPP Masterclasses on Monday\, April 7\, along with a range of sessions and networking opportunities. The Symposium promises to be a thought provoking\, wide ranging and impactful program of technical\, clinical and practice updates. You will: \n\ncompare practice with colleagues from around the world\nexplore strategies to enhance practice and patient outcomes\ncollaborate\, create and innovate in hot topic discussions\nbe challenged and inspired!\n\nThe theme “Global Insights\, Local Impact: Advancing a Community of Oncology Pharmacy Practice” will explore the critical role of oncology pharmacists\, pharmacy technicians and assistants in bridging global innovations with localized patient care. Bringing together oncology pharmacy professionals from around the world emphasizes the importance of sharing best practices and groundbreaking research to enhance treatment outcomes.  \nVisit the Symposium website for more information on the program\, registration\, venue\, and accommodations. Don’t forget to subscribe to the ISOPP CAPhO Symposium E-Newsletter for automatic updates about the event. \nJoin us in Victoria to connect\, learn\, and shape the future of oncology pharmacy together! \n 
URL:https://www.bopa.org.uk/event/isopp-capho-symposium-2025/
LOCATION:Victoria\, Canada\, 720 Douglas St\, Victoria\, BC V8W 3M7\, Canada\, British Columbia\, V8W 3M7\, Canada
ATTACH;FMTTYPE=image/jpeg:https://www.bopa.org.uk/wp-content/uploads/2024/11/ISOPP-CAPhO-2025-Banner.jpg
END:VEVENT
BEGIN:VEVENT
DTSTART;TZID=Europe/London:20250423T130000
DTEND;TZID=Europe/London:20250423T140000
DTSTAMP:20260420T150015
CREATED:20250414T211744Z
LAST-MODIFIED:20250416T163242Z
UID:34147-1745413200-1745416800@www.bopa.org.uk
SUMMARY:BOPA My Research Webinar - New Models of Care
DESCRIPTION:Wednesday 23rd April 2025 1-2pm BST\n  \nWebinar Schedule:  \nAiredale NHS Foundation Trust secured NHSE Invest to Save funding and employed two part-time pharmacists to reduce wastage and expenditure of cancer chemotherapy – Emma Makram (25mins) \nUtilising the NHSE SACT waste calculator to assess the level of waste – Experience at Calderdale and Huddersfield NHS Trust (CHFT) and Mid Yorkshire Teaching Trust – Louise Hemmings (25 mins) \nQ&A (10mins) \n  \nBiographies: \n\n \nEmma Makram is a Specialist Clinical Pharmacist in Cancer Services Medicines Optimisation at Airedale NHS Foundation Trust. She has worked in this role as a job share since 2023 as part of the NHSE Invest to Save Initiative. In this role\, Emma has been involved in several projects to make savings and reduce SACT waste.  \n\n\nSince qualifying as a pharmacist in 2011\, Emma has worked in community pharmacy in the North West of England before moving to hospital pharmacy via bank roles at The Christie Clinic and Airedale. She has worked at Airedale in various clinical roles since 2016. \n  \n \nLouise Hemmings is an Advanced Clinical Pharmacist in Cancer Services working at Calderdale and Huddersfield NHS Trust. From September 2023 to September 2024 she undertook a secondment to work with NHSE as part of an Invest to Save Initiative specifically looking at SACT Waste across Calderdale and Huddersfield NHS Trust and Mid Yorkshire Teaching Trust. She completed her MPharm at the University of Bradford and a post graduate clinical pharmacy diploma at the University of Cardiff. Since qualifying 15 years ago she has worked as an admissions pharmacist\, antimicrobial pharmacist and in HIV and Sexual Health services at a number of different trusts in the Yorkshire region\, before moving into Cancer Services. \n  \n\n\nPlease Note:\n-Webinars will start at 13:00 GMT and will last about 30 minutes to 1 hour \n-The Zoom link for the webinar will be sent on the day of the event around 12:30pm (if you would like the link before this time please email contact@bopa.org.uk) \n-This webinar is FREE to access for BOPA Paid Members or Free Associates \n-Webinars will be recorded and appear in the BOPA eLearning section of the website via this LINK
URL:https://www.bopa.org.uk/event/bopa-my-research-webinar-new-models-of-care/
LOCATION:Virtual – Online
CATEGORIES:Audit and Research,Online Webinar
ATTACH;FMTTYPE=image/png:https://www.bopa.org.uk/wp-content/uploads/2023/01/BOPA-Webinar-Final_Res-Black.png
ORGANIZER;CN="BOPA":MAILTO:contact@bopa.org.uk
END:VEVENT
BEGIN:VEVENT
DTSTART;VALUE=DATE:20250427
DTEND;VALUE=DATE:20250430
DTSTAMP:20260420T150015
CREATED:20241219T143540Z
LAST-MODIFIED:20241219T143540Z
UID:32813-1745712000-1745971199@www.bopa.org.uk
SUMMARY:British Society of Haematology (BSH) 65th Annual Scientific Meeting
DESCRIPTION:Join us for our face-to-face 65th Annual Scientific Meeting between 27 and 29 April 2025 at the Scottish Event Campus (SEC)\, Glasgow. \nVisit our conference website to find out all the latest information about our ASM – BSH 2025 | 65th Annual Scientific Meeting of the British Society for Haematology
URL:https://www.bopa.org.uk/event/british-society-of-haematology-bsh-65th-annual-scientific-meeting/
LOCATION:SEC Centre\, Exhibition Way\, Glasgow\, G3 8YW\, United Kingdom
ATTACH;FMTTYPE=image/png:https://www.bopa.org.uk/wp-content/uploads/2024/12/BSH-Logo-Lrg.png
END:VEVENT
END:VCALENDAR