BEGIN:VCALENDAR
VERSION:2.0
PRODID:-//BOPA - ECPv6.15.17.1//NONSGML v1.0//EN
CALSCALE:GREGORIAN
METHOD:PUBLISH
X-WR-CALNAME:BOPA
X-ORIGINAL-URL:https://www.bopa.org.uk
X-WR-CALDESC:Events for BOPA
REFRESH-INTERVAL;VALUE=DURATION:PT1H
X-Robots-Tag:noindex
X-PUBLISHED-TTL:PT1H
BEGIN:VTIMEZONE
TZID:Europe/London
BEGIN:DAYLIGHT
TZOFFSETFROM:+0000
TZOFFSETTO:+0100
TZNAME:BST
DTSTART:20250330T010000
END:DAYLIGHT
BEGIN:STANDARD
TZOFFSETFROM:+0100
TZOFFSETTO:+0000
TZNAME:GMT
DTSTART:20251026T010000
END:STANDARD
BEGIN:DAYLIGHT
TZOFFSETFROM:+0000
TZOFFSETTO:+0100
TZNAME:BST
DTSTART:20260329T010000
END:DAYLIGHT
BEGIN:STANDARD
TZOFFSETFROM:+0100
TZOFFSETTO:+0000
TZNAME:GMT
DTSTART:20261025T010000
END:STANDARD
BEGIN:DAYLIGHT
TZOFFSETFROM:+0000
TZOFFSETTO:+0100
TZNAME:BST
DTSTART:20270328T010000
END:DAYLIGHT
BEGIN:STANDARD
TZOFFSETFROM:+0100
TZOFFSETTO:+0000
TZNAME:GMT
DTSTART:20271031T010000
END:STANDARD
END:VTIMEZONE
BEGIN:VEVENT
DTSTART;TZID=Europe/London:20260514T140000
DTEND;TZID=Europe/London:20260514T160000
DTSTAMP:20260421T233014
CREATED:20260421T155813Z
LAST-MODIFIED:20260421T155813Z
UID:39651-1778767200-1778774400@www.bopa.org.uk
SUMMARY:Join the CCLG Global Child Cancer group webinar Tackling Drug Quality in Paediatric Oncology in Low- and Middle- Income Countries (LMIC)
DESCRIPTION:Calling all Paediatric Oncologists\, Nurses and Pharmacists to collaborate and make a global impact \nDate: Thursday 14th May 2026\nTime: 14:00-16:00 BST \nPlace: Online Teams meeting \nSerious concerns have been raised regarding poor quality chemotherapy in several countries with which the CCLG Global Child Cancer group have partnerships. This includes asparaginase and other oncology drugs essential for treating children with cancer. \nAims of the meeting:\n•Share lived experience and evidence of drug quality issues\n•Discuss pharmacological\, clinical and operational implications\, especially procurement\n•Propose actionable solutions to support partner centres\n•Develop a practical roadmap for future work \nPresenters:\n1.Prof Girish Chinnaswamy\, Tata Memorial Hospital\, Mumbai\, India\n‘Experience from India and the National Cancer Grid. Testing of chemotherapeuticagents\, biologics\, PK studies\, and procurement processes. Challenges in identifyingreliable manufacturers. Importance of random testing and pharmacovigilance’\n2.Dr Barry Goldspiel\, PharmD\, President\, International Society of OncologyPharmacy Practitioners (ISOPP)\, USA\n‘The Oncology Pharmacy Society’s Perspective on Drug Quality Issues’\n3.Hannah E. Sauer\, PharmD\, St. Jude Global Pharmacy Program\, Department ofGlobal Pediatric Medicine\, St. Jude Children’s Research Hospital\, Memphis\, USA\n‘Strengthening Access to Quality Childhood Cancer Medicines: Emerging Insightsfrom a Global Platform’\n4.Expert-led discussion and Q+A \nUse this link to register: REGISTER NOW  \n 
URL:https://www.bopa.org.uk/event/join-the-cclg-global-child-cancer-group-webinar-tackling-drug-quality-in-paediatric-oncology-in-low-and-middle-income-countries-lmic/
LOCATION:Virtual – Online
CATEGORIES:Education and Training,Online Webinar
END:VEVENT
BEGIN:VEVENT
DTSTART;TZID=Europe/London:20260605T120000
DTEND;TZID=Europe/London:20260605T160000
DTSTAMP:20260421T233014
CREATED:20260416T184654Z
LAST-MODIFIED:20260416T184654Z
UID:39536-1780660800-1780675200@www.bopa.org.uk
SUMMARY:NIHR INSIGHT Opening the Doors: Reimagining Inclusion in Health Research
DESCRIPTION:📅 Friday 5 June 2026  \n🕐 12:00–16:00  \n📍 1 Frith Street\, London W1D 3HZ \n✅ Register here \nAbout this event \nNIHR INSIGHT South London welcomes you to join us for an afternoon dedicated to making health and care research more inclusive\, equitable\, and representative. \nTogether\, we’ll explore how researchers can: \n\nDesign studies that reach all communities\nRemove barriers to participation\nBuild trust through meaningful engagement\nEnsure research is for everyone\n\nExpect thought‑provoking discussions\, lived-experiences stories and real examples of inclusive research in action. Whether you’re a researcher\, partner organisation\, or community contributor within South London\, your voice is essential. \nRegistration \nPlease register here. \nAbout the NIHR INSIGHT Programme South London \nThis event is organised by the NIHR INSIGHT Programme South London. Find out more about how the programme is inspiring students and early career practitioners to pursue research careers.
URL:https://www.bopa.org.uk/event/nihr-insight-opening-the-doors-reimagining-inclusion-in-health-research/
CATEGORIES:Announcements,Education and Training,Online Webinar
ATTACH;FMTTYPE=image/jpeg:https://www.bopa.org.uk/wp-content/uploads/2023/01/BOPA-Webinar-Final_Res-Black-Square-002.jpg
ORGANIZER;CN="British Oncology Pharmacy Association (BOPA)":MAILTO:contact@bopa.org.uk
END:VEVENT
BEGIN:VEVENT
DTSTART;TZID=Europe/London:20260610T093000
DTEND;TZID=Europe/London:20260610T163000
DTSTAMP:20260421T233014
CREATED:20260407T161413Z
LAST-MODIFIED:20260421T100247Z
UID:39330-1781083800-1781109000@www.bopa.org.uk
SUMMARY:The BOPA Advanced Pharmacist Study Day
DESCRIPTION:🌟 BOPA Advanced Pharmacist Study Day – Elevate Your Practice\, Shape Your Career \nAre you an oncology or haematology pharmacist with around five or more years of experience — whether Band 7 or Band 8 — and ready to take the next step in your professional development? The BOPA Advanced Pharmacist Study Day is designed exactly for you. \nThis focused\, practical\, and inspiring day explores what it truly means to work at an advanced level of practice\, helping you understand your career options\, strengthen your portfolio\, and build confidence in the areas that matter most. \n🎯 What the Study Day Is About \nThis isn’t an introductory course. It’s a space for established pharmacists to: \n\nReflect on their development\nUnderstand advanced practice pathways\nLearn from experts and peers who have been there\n\nThe day was originally created in response to the many questions pharmacists had about the Consultant Pharmacist pathway. But we recognised something important: 👉 Not everyone wants — or needs — to become a consultant pharmacist to work at an advanced level. So this study day now supports both routes\, helping you identify the path that fits your goals. \n📌 What You’ll Learn \n1. Advanced vs Consultant Pharmacist Pathways \nLed by Joseph Oakley (RPS)\, this session breaks down: \n\nWhat “advanced practice” really means\nHow the Consultant Pharmacist pathway works\nWhat evidence you need — and how to gather it\nHow to choose the route that aligns with your ambitions\n\n2. Real‑World Insights from a Newly Credentialed Advanced Pharmacist \nHear directly from someone who has recently completed the Advanced Pharmacist pathway. They’ll share: \n\nWhat worked well\nWhat they wish they’d known earlier\nHow the process has shaped their career\nTips for building a strong\, authentic portfolio\n\n3. Research Skills for Advanced Practice \nResearch is consistently one of the most challenging pillars for candidates. That’s why Tiffany Chan (BOPA Research Committee) and Vanya Slavova-Boneva will run a session on Advancing practice in Geriatric Oncology: The Pharmacist’s role in clinical care\, research\, and education – delivered by Tiffany Chan and Vanya Slavova-Boneva \n  \nThis session is always a highlight. \n  \n4. Non‑Medical Prescribing: Pathways & Practice \nA practical\, honest look at: \n\nRoutes into non‑medical prescribing\nWhat NMP clinics look like in real practice\nChallenges in setting up NMP clinics\nHow prescribing can expand your scope and autonomy\n\nDelivered by pharmacists actively running NMP clinics. \n5. Mental Health & Wellbeing for Healthcare Professionals \nA much‑loved session that focuses on you — the person behind the professional. This reflective and restorative session explores: \n\nPractical strategies to support your mental health\nTools you can take home and use immediately\nHow to maintain wellbeing in a high‑pressure specialty\nWays to build resilience and protect your energy\n\nIt’s consistently praised for being grounding\, compassionate\, and deeply relevant to today’s workforce. \n🌱 Why Attend? \nYou’ll leave with: \n\nA clear understanding of advanced practice and consultant pathways\nPractical tools to strengthen your portfolio\nRenewed confidence in your professional development\nA network of peers on the same journey\n\nThis day is ideal for pharmacists who are ready to grow\, reflect\, and shape the next stage of their career — whether or not consultant-level practice is your destination. \n\nWHEN: Wednesday 10th June 2026\nWHERE:  Wellcome Collection\, 183 Euston Road\, London\, NW1 BE\nCOST: A non-refundable payment of £25.00. \nThis event is sponsored by Lilly Pharmaceuticals and run by BOPA Education and Training Subcommittee
URL:https://www.bopa.org.uk/event/the-bopa-advanced-pharmacist-study-day/
LOCATION:Wellcome Collection\, 183 Euston Rd\, London\, United Kingdom
CATEGORIES:Announcements,Education and Training
ATTACH;FMTTYPE=image/jpeg:https://www.bopa.org.uk/wp-content/uploads/2023/06/bopa.jpg
ORGANIZER;CN="British Oncology Pharmacy Association (BOPA)":MAILTO:contact@bopa.org.uk
END:VEVENT
BEGIN:VEVENT
DTSTART;VALUE=DATE:20260625
DTEND;VALUE=DATE:20260628
DTSTAMP:20260421T233014
CREATED:20250818T140149Z
LAST-MODIFIED:20250818T140220Z
UID:35953-1782345600-1782604799@www.bopa.org.uk
SUMMARY:MASCC 2026
DESCRIPTION:Save the Date for the 2026 Annual Meeting – MASCC
URL:https://www.bopa.org.uk/event/mascc-2026/
LOCATION:melbourne\, Melbourne\, Australia
ATTACH;FMTTYPE=image/jpeg:https://www.bopa.org.uk/wp-content/uploads/2025/08/2026_melbourne_1080x660-1500x917_savedate.jpg
END:VEVENT
BEGIN:VEVENT
DTSTART;VALUE=DATE:20261002
DTEND;VALUE=DATE:20261005
DTSTAMP:20260421T233014
CREATED:20251005T141352Z
LAST-MODIFIED:20260303T214742Z
UID:36619-1790899200-1791158399@www.bopa.org.uk
SUMMARY:BOPA Conference 2026
DESCRIPTION:Latest Conference 2026 – BOPA \n \n 
URL:https://www.bopa.org.uk/event/bopa-conference-2026/
LOCATION:ICC London Olympia\, Hammersmith Road\, London\, W14 8UX.\, United Kingdom
CATEGORIES:Conference,Membership updates
ATTACH;FMTTYPE=image/png:https://www.bopa.org.uk/wp-content/uploads/2026/01/BOPA-2026-Logo-WEB_BOPA-Square-Black-Background-1.png
END:VEVENT
END:VCALENDAR