BEGIN:VCALENDAR
VERSION:2.0
PRODID:-//BOPA - ECPv6.15.17.1//NONSGML v1.0//EN
CALSCALE:GREGORIAN
METHOD:PUBLISH
X-WR-CALNAME:BOPA
X-ORIGINAL-URL:https://www.bopa.org.uk
X-WR-CALDESC:Events for BOPA
REFRESH-INTERVAL;VALUE=DURATION:PT1H
X-Robots-Tag:noindex
X-PUBLISHED-TTL:PT1H
BEGIN:VTIMEZONE
TZID:Europe/London
BEGIN:DAYLIGHT
TZOFFSETFROM:+0000
TZOFFSETTO:+0100
TZNAME:BST
DTSTART:20230326T010000
END:DAYLIGHT
BEGIN:STANDARD
TZOFFSETFROM:+0100
TZOFFSETTO:+0000
TZNAME:GMT
DTSTART:20231029T010000
END:STANDARD
BEGIN:DAYLIGHT
TZOFFSETFROM:+0000
TZOFFSETTO:+0100
TZNAME:BST
DTSTART:20240331T010000
END:DAYLIGHT
BEGIN:STANDARD
TZOFFSETFROM:+0100
TZOFFSETTO:+0000
TZNAME:GMT
DTSTART:20241027T010000
END:STANDARD
BEGIN:DAYLIGHT
TZOFFSETFROM:+0000
TZOFFSETTO:+0100
TZNAME:BST
DTSTART:20250330T010000
END:DAYLIGHT
BEGIN:STANDARD
TZOFFSETFROM:+0100
TZOFFSETTO:+0000
TZNAME:GMT
DTSTART:20251026T010000
END:STANDARD
BEGIN:DAYLIGHT
TZOFFSETFROM:+0000
TZOFFSETTO:+0100
TZNAME:BST
DTSTART:20260329T010000
END:DAYLIGHT
BEGIN:STANDARD
TZOFFSETFROM:+0100
TZOFFSETTO:+0000
TZNAME:GMT
DTSTART:20261025T010000
END:STANDARD
END:VTIMEZONE
BEGIN:VEVENT
DTSTART;TZID=Europe/London:20251029T173000
DTEND;TZID=Europe/London:20251029T183000
DTSTAMP:20260421T145814
CREATED:20251027T083454Z
LAST-MODIFIED:20251027T083454Z
UID:37081-1761759000-1761762600@www.bopa.org.uk
SUMMARY:Celebrating Black History Month - Celebrating Excellence with Gisela Abbam
DESCRIPTION:In celebration of Black History Month\, the Kingston University BAME staff network  is excited to invite you to an inspiring session with Gisela Abbam\,  Chair of the General Pharmaceutical Council (GPhC). \nGisela is a global executive and leader passionate about equality\, health\, and innovation. \nGisela is a multi-award winner including winner of Woman on Boards in 2024\, Woman creating a better world for all Award by the Women Economic Forum and the 2019 Black British Business Person of the Year Award.  She was recently awarded Honorary Fellow of the British Science Association and was awarded Fellow of the Royal Society for Arts\, Manufactures and Commerce for her contribution to social change in 2018. \n📅 Wednesday 29th October 2025\, 1730 to 1830\, Microsoft Teams \nRegister your attendance by signing up here:\nhttps://events.teams.microsoft.com/event/49e9a9c2-089a-47bd-8f25-984dc05584f3@c9ef029c-18cf-4016-86d3-93cf8e94ff94
URL:https://www.bopa.org.uk/event/celebrating-black-history-month-celebrating-excellence-with-gisela-abbam/
LOCATION:Virtual – Online
CATEGORIES:Announcements,Online Webinar,Other news
END:VEVENT
BEGIN:VEVENT
DTSTART;TZID=Europe/London:20251023T150000
DTEND;TZID=Europe/London:20251023T160000
DTSTAMP:20260421T145814
CREATED:20251013T205955Z
LAST-MODIFIED:20251013T210231Z
UID:36820-1761231600-1761235200@www.bopa.org.uk
SUMMARY:EBMT Pharmacists Webinar: Interactive Case Study on Prevention and Treatment of Fungal Infections in Stem Cell Transplant Patients
DESCRIPTION:Join the Upcoming Pharmacists Webinar: Interactive Case Study on Prevention and Treatment of Fungal Infections in Stem Cell Transplant Patients \n\n\n\n\n\n\n\n\n\n\n\n\n\n\nThursday 23 October 2025 | 15:00-16:00 BST \nThe\nEBMT Pharmacist Committee invites you to an interactive case-based webinar on the prevention and management of fungal infections in stem cell transplant recipients. \nThis session will be hosted by an expert panel of pharmacists presenting interesting clinical cases followed by a panel discussion shaped by participants’ questions. \nModerator: Nick Duncan\, Consultant Haematology Pharmacist. Queen Elizabeth Hospital\, Birmingham\, UK. \n\n\n\n\n\n\n\n\n\n\n\n\n\n\n\n\n\n\n\n\n\n\n\n\n\n\n\n\n\n\n\n\n\n\n\n\n\n\n\n\n\n\n\n\n\nLearning objectives \nBy the end of the webinar\, you should be able\nto:\n•  Describe risk categories and the role of risk stratification in the context of choosing antifungal prophylaxis\n•  Discuss pros and cons of different systemic antifungals in the setting of prophylaxis and treatment of invasive fungal infection\n•  Summarise pharmacokinetic issues\, toxicity concerns and monitoring requirements for systemic antifungals \n\n\n\n\n\n\n\n\n\n\n\n\n\n\n\n\n\n\n\n\n\n\n\n\n\n\n\nSign Up Here\n\n\n\n\n\n\n\n\n\n\n\n\n\n\n\n\n\n\n\n\n\n\nPharmacists’ Webinars\n\n\n\n\n\n\n\n\n\n\n\n\n\n\n\n\n\n\n\n\n\n\n\n\n\n\n\n\n\n\n\n\n\n\n\n\n\n\n\n\n\n\n\n\n\n\n\n\n\n\n\n\n\n\n\n\n\n\n\n\n\n\n\n\n\nEBMT Celebtrated the World Pharmacists Day on 25 September \n\n\n\n\n\n\n\n\n\n\n\n\n\n\nThe EBMT Pharmacist Committee was delighted to celebrate World Pharmacists Day on Thursday\, 25 September. Established by the International Pharmaceutical Federation (FIP) in 2009\, this annual event highlights the vital role of pharmacists worldwide. The theme for 2025\, “Think Health\, Think Pharmacist\,” reinforces the central role of pharmacists in advancing healthcare. \nRead the latest update from Nick Duncan\, on behalf of the EBMT Pharmacist Committee.\n\n\n\n\n\n\n\n\n\n\n\n\n\n\nDiscover More\n\n\n\n\n\n\n\n\n\n\n\n\n\n\n\n\n\n\n\n\n\n\n\n\n\n\n\n\n\n\n\n\n\n\n\n\n\n\n\n\n\n\n\n\n\n\n\n\n\n\n\n\nSaving lives since 1974 \n\n\n\n\n\n\n\n\n\n\n\n\n\n\n\n\n\n\n\n\n \n\n\n\n\n\n\n\n\n\n\n\n\n\n\n\n\n\n\n\n\n\n\n\n\n\n\nEBMT Executive Office – Aticco Med Fórum\, Passeig de Garcia Fària\, 49\, Barcelona\, Spain\, 08019\nContact Us | Privacy Policy\n| Terms of Use \n\n\n\n\n\n\n\n\n\n\n\n\n\n\n\n\n\n\n\n\n\n\n\n\n\n\n\n\n\n\n\n\n\n\n\n\n\n\n\n\n\n\n\n\n\n\n\n\n\n\n\n\n\n© 2025 The EBMT. All rights reserved.
URL:https://www.bopa.org.uk/event/ebmt-pharmacists-webinar-interactive-case-study-on-prevention-and-treatment-of-fungal-infections-in-stem-cell-transplant-patients/
LOCATION:Virtual – Online
CATEGORIES:Announcements,Education and Training,Online Webinar,Other news
ATTACH;FMTTYPE=image/png:https://www.bopa.org.uk/wp-content/uploads/2025/10/Pharmacists_Webinar__2_.png
END:VEVENT
BEGIN:VEVENT
DTSTART;VALUE=DATE:20240420
DTEND;VALUE=DATE:20240421
DTSTAMP:20260421T145814
CREATED:20240320T140811Z
LAST-MODIFIED:20240320T143503Z
UID:28466-1713571200-1713657599@www.bopa.org.uk
SUMMARY:British Society for Integrative Oncology (BSIO) Annual Conference 2024
DESCRIPTION:BSIO (British Society for Integrative Oncology) is the leading professional organisation for integrative oncology in the UK. Our goal is to promote the integration of evidence-informed conventional\, nutritional\, lifestyle and complementary medicine to improve the lives of people affected by cancer. \nThe 2024 Annual Conference ‘Integrative oncology across the age spectrum’ offers a unique opportunity to hear from a wide range of integrative oncology experts as they discuss the challenges of supporting their patients from early years through to older adults. \nDuring the day\, you’ll hear first hand from an oncology team\, whose combined skills and knowledge have positively impacted the young patients and families in their care. We will also explore the integrative oncology solutions to living with and beyond cancer in teenagers and young adults.  The conference will also address the challenges of supporting men through their cancer diagnosis\, and how best to engage this group in integrative oncology as well as examining the impact of cancer on sexual intimacy in women; an area that is often overlooked.  There will also be a session dedicated to the integrative oncology approaches to support the needs of older people\, before the day ends with a Panel Q&A and closing remarks.  With an incredible line-up of international and UK experts\, we are sure the day will offer valuable insights for any professional working in cancer support. \nPlease view the outline agenda and register to join us at the conference on Saturday 20th April using the link below:\nhttps://tinyurl.com/8m54frev\nDon’t miss out on the early bird rate with an additional 10% off the ticket price using the code bopa10 (for non-BSIO members).
URL:https://www.bopa.org.uk/event/british-society-for-integrative-oncology-bsio-annual-conference-2024/
LOCATION:Virtual – Online
CATEGORIES:Other news
ATTACH;FMTTYPE=image/png:https://www.bopa.org.uk/wp-content/uploads/2024/03/cropped_img_Conference_logo_template_2_1709585859830.png
END:VEVENT
END:VCALENDAR