BEGIN:VCALENDAR
VERSION:2.0
PRODID:-//BOPA - ECPv6.15.17.1//NONSGML v1.0//EN
CALSCALE:GREGORIAN
METHOD:PUBLISH
X-WR-CALNAME:BOPA
X-ORIGINAL-URL:https://www.bopa.org.uk
X-WR-CALDESC:Events for BOPA
REFRESH-INTERVAL;VALUE=DURATION:PT1H
X-Robots-Tag:noindex
X-PUBLISHED-TTL:PT1H
BEGIN:VTIMEZONE
TZID:Europe/London
BEGIN:DAYLIGHT
TZOFFSETFROM:+0000
TZOFFSETTO:+0100
TZNAME:BST
DTSTART:20240331T010000
END:DAYLIGHT
BEGIN:STANDARD
TZOFFSETFROM:+0100
TZOFFSETTO:+0000
TZNAME:GMT
DTSTART:20241027T010000
END:STANDARD
BEGIN:DAYLIGHT
TZOFFSETFROM:+0000
TZOFFSETTO:+0100
TZNAME:BST
DTSTART:20250330T010000
END:DAYLIGHT
BEGIN:STANDARD
TZOFFSETFROM:+0100
TZOFFSETTO:+0000
TZNAME:GMT
DTSTART:20251026T010000
END:STANDARD
BEGIN:DAYLIGHT
TZOFFSETFROM:+0000
TZOFFSETTO:+0100
TZNAME:BST
DTSTART:20260329T010000
END:DAYLIGHT
BEGIN:STANDARD
TZOFFSETFROM:+0100
TZOFFSETTO:+0000
TZNAME:GMT
DTSTART:20261025T010000
END:STANDARD
END:VTIMEZONE
BEGIN:VEVENT
DTSTART;TZID=Europe/London:20251029T173000
DTEND;TZID=Europe/London:20251029T183000
DTSTAMP:20260425T143805
CREATED:20251027T083454Z
LAST-MODIFIED:20251027T083454Z
UID:37081-1761759000-1761762600@www.bopa.org.uk
SUMMARY:Celebrating Black History Month - Celebrating Excellence with Gisela Abbam
DESCRIPTION:In celebration of Black History Month\, the Kingston University BAME staff network  is excited to invite you to an inspiring session with Gisela Abbam\,  Chair of the General Pharmaceutical Council (GPhC). \nGisela is a global executive and leader passionate about equality\, health\, and innovation. \nGisela is a multi-award winner including winner of Woman on Boards in 2024\, Woman creating a better world for all Award by the Women Economic Forum and the 2019 Black British Business Person of the Year Award.  She was recently awarded Honorary Fellow of the British Science Association and was awarded Fellow of the Royal Society for Arts\, Manufactures and Commerce for her contribution to social change in 2018. \n📅 Wednesday 29th October 2025\, 1730 to 1830\, Microsoft Teams \nRegister your attendance by signing up here:\nhttps://events.teams.microsoft.com/event/49e9a9c2-089a-47bd-8f25-984dc05584f3@c9ef029c-18cf-4016-86d3-93cf8e94ff94
URL:https://www.bopa.org.uk/event/celebrating-black-history-month-celebrating-excellence-with-gisela-abbam/
LOCATION:Virtual – Online
CATEGORIES:Announcements,Online Webinar,Other news
END:VEVENT
END:VCALENDAR