BEGIN:VCALENDAR
VERSION:2.0
PRODID:-//BOPA - ECPv6.15.17.1//NONSGML v1.0//EN
CALSCALE:GREGORIAN
METHOD:PUBLISH
X-ORIGINAL-URL:https://www.bopa.org.uk
X-WR-CALDESC:Events for BOPA
REFRESH-INTERVAL;VALUE=DURATION:PT1H
X-Robots-Tag:noindex
X-PUBLISHED-TTL:PT1H
BEGIN:VTIMEZONE
TZID:Europe/London
BEGIN:DAYLIGHT
TZOFFSETFROM:+0000
TZOFFSETTO:+0100
TZNAME:BST
DTSTART:20250330T010000
END:DAYLIGHT
BEGIN:STANDARD
TZOFFSETFROM:+0100
TZOFFSETTO:+0000
TZNAME:GMT
DTSTART:20251026T010000
END:STANDARD
BEGIN:DAYLIGHT
TZOFFSETFROM:+0000
TZOFFSETTO:+0100
TZNAME:BST
DTSTART:20260329T010000
END:DAYLIGHT
BEGIN:STANDARD
TZOFFSETFROM:+0100
TZOFFSETTO:+0000
TZNAME:GMT
DTSTART:20261025T010000
END:STANDARD
BEGIN:DAYLIGHT
TZOFFSETFROM:+0000
TZOFFSETTO:+0100
TZNAME:BST
DTSTART:20270328T010000
END:DAYLIGHT
BEGIN:STANDARD
TZOFFSETFROM:+0100
TZOFFSETTO:+0000
TZNAME:GMT
DTSTART:20271031T010000
END:STANDARD
END:VTIMEZONE
BEGIN:VEVENT
DTSTART;TZID=Europe/London:20260508T090000
DTEND;TZID=Europe/London:20260509T160000
DTSTAMP:20260420T150115
CREATED:20260311T120040Z
LAST-MODIFIED:20260314T120746Z
UID:38994-1778230800-1778342400@www.bopa.org.uk
SUMMARY:Clinical Pharmacy Congress 2026
DESCRIPTION:Clinical Pharmacy Congress returns to Excel London on 8-9 May 2026\, bringing together over 3\,500+ healthcare professionals for the UK’s leading event in hospital pharmacy\nAttendees can expect:\n• 170+ conference sessions across 12 theatres\n• 200+ exhibitors showcasing the latest innovations \nAcross two days\, CPC London delivers a comprehensive programme of clinical education\, national policy updates\, professional development and practical learning\, alongside an exhibition featuring organisations that support pharmacy teams in delivering safe\, effective and efficient patient care. \nThe event attracts a highly engaged audience\, including Chief Pharmacists\, Consultant and Specialist Pharmacists\, Medicines Optimisation leads and Pharmacy Technicians\, many of whom are involved in service delivery\, implementation and decision-making within their organisations. \nCPC is known for the quality of its content and the intent of its audience. Delegates attend to learn\, share best practice\, explore new solutions and connect with peers and suppliers who understand the realities of clinical pharmacy practice. \n\nConference and Workshop Theatre synopses\n\n\n\n\n\n\nKeynote Theatre \nInsights from national leaders and senior NHS England figures\, setting the strategic direction for the future of clinical pharmacy. \nClinical Theatre \nIn-depth clinical updates on a variety of pharmacy areas\, plus sessions on clinical leadership to influence teams and improve practices. \nLeadership & Professional Development Theatre \nAdvance your career with leadership training\, career pathways\, and success stories from across the sector. \nMedicines Optimisation Workshop \nInteractive roundtable discussions covering medicines safety\, structured medication reviews\, and deprescribing strategies. \nTechnical Services Theatre \nKey topics for aseptics\, medicines storage\, and technical services professionals\, exploring best practices and innovations. \nStrategy & Policy Forum \nActionable insights on navigating policy and strategic challenges within the evolving healthcare landscape. \nNeighbourhood Health \nFocused discussions on integrated care systems\, community pharmacy\, and multidisciplinary collaboration to improve patient care. \nTechnology & Innovation Theatre \nDiscover cutting-edge digital solutions transforming pharmacy practice\, including AI\, automation\, and digital prescribing. \nShowcase Theatre \nEngage in peer-led discussions on the latest projects\, research\, and innovations within pharmacy. \n\nTo register for the event – select the “Register” button above. \nGeneral Event Information: https://www.pharmacycongress.co.uk/CPCL26LP-BOPA
URL:https://www.bopa.org.uk/event/clinical-pharmacy-congress-2026/
LOCATION:ExCel London\, United Kingdom
CATEGORIES:Conference
ATTACH;FMTTYPE=image/png:https://www.bopa.org.uk/wp-content/uploads/2026/03/Website-CPC26-Logo-2026.png
END:VEVENT
BEGIN:VEVENT
DTSTART;VALUE=DATE:20261002
DTEND;VALUE=DATE:20261005
DTSTAMP:20260420T150115
CREATED:20251005T141352Z
LAST-MODIFIED:20260303T214742Z
UID:36619-1790899200-1791158399@www.bopa.org.uk
SUMMARY:BOPA Conference 2026
DESCRIPTION:Latest Conference 2026 – BOPA \n \n 
URL:https://www.bopa.org.uk/event/bopa-conference-2026/
LOCATION:ICC London Olympia\, Hammersmith Road\, London\, W14 8UX.\, United Kingdom
CATEGORIES:Conference,Membership updates
ATTACH;FMTTYPE=image/png:https://www.bopa.org.uk/wp-content/uploads/2026/01/BOPA-2026-Logo-WEB_BOPA-Square-Black-Background-1.png
END:VEVENT
END:VCALENDAR