BEGIN:VCALENDAR
VERSION:2.0
PRODID:-//BOPA - ECPv6.15.17.1//NONSGML v1.0//EN
CALSCALE:GREGORIAN
METHOD:PUBLISH
X-WR-CALNAME:BOPA
X-ORIGINAL-URL:https://www.bopa.org.uk
X-WR-CALDESC:Events for BOPA
REFRESH-INTERVAL;VALUE=DURATION:PT1H
X-Robots-Tag:noindex
X-PUBLISHED-TTL:PT1H
BEGIN:VTIMEZONE
TZID:Europe/London
BEGIN:DAYLIGHT
TZOFFSETFROM:+0000
TZOFFSETTO:+0100
TZNAME:BST
DTSTART:20240331T010000
END:DAYLIGHT
BEGIN:STANDARD
TZOFFSETFROM:+0100
TZOFFSETTO:+0000
TZNAME:GMT
DTSTART:20241027T010000
END:STANDARD
BEGIN:DAYLIGHT
TZOFFSETFROM:+0000
TZOFFSETTO:+0100
TZNAME:BST
DTSTART:20250330T010000
END:DAYLIGHT
BEGIN:STANDARD
TZOFFSETFROM:+0100
TZOFFSETTO:+0000
TZNAME:GMT
DTSTART:20251026T010000
END:STANDARD
BEGIN:DAYLIGHT
TZOFFSETFROM:+0000
TZOFFSETTO:+0100
TZNAME:BST
DTSTART:20260329T010000
END:DAYLIGHT
BEGIN:STANDARD
TZOFFSETFROM:+0100
TZOFFSETTO:+0000
TZNAME:GMT
DTSTART:20261025T010000
END:STANDARD
END:VTIMEZONE
BEGIN:VEVENT
DTSTART;VALUE=DATE:20251127
DTEND;VALUE=DATE:20251128
DTSTAMP:20260422T120255
CREATED:20250808T075349Z
LAST-MODIFIED:20250808T075349Z
UID:35869-1764201600-1764287999@www.bopa.org.uk
SUMMARY:The UK SACT Board Annual Conference 2025
DESCRIPTION:REGISTRATION NOW OPEN  \n \n  \nWe are delighted to inform you that the UK SACT Board Annual Conference will be held in London on Thursday 27th November 2025. The UK SACT Board (UKSB) provides guidance\, oversight and support for the continuing development of SACT services in the UK and is comprised of the six professional bodies with representation from all four nations of the UK and other organisations involved in SACT services and research. \nThis year\, the conference will be chaired by Joseph Williams\, who is the Chair of the UKSB and the British Oncology Pharmacy Association (BOPA). The agenda is still being developed\, and we will share it with you as soon as it is ready. \nPlease note there is small registration fee of £25.00 including VAT to attend the conference this year. Payment is required online at the time of booking your place. The fee covers access to all sessions\, conference material\, lunch and coffee breaks. \nCLICK HERE TO REGISTER  \nFor more information\, go to: www.uksactboard.org  \nWe look forward to seeing you at what will surely be an exciting\, educational and productive day.
URL:https://www.bopa.org.uk/event/the-uk-sact-board-annual-conference-2025/
LOCATION:Pullman London St Pancras hotel\, 100-110 Euston Rd\, Kings Cross\, London\, NW1 2AJ\, United Kingdom
CATEGORIES:Conference
ATTACH;FMTTYPE=image/jpeg:https://www.bopa.org.uk/wp-content/uploads/2025/08/IMG_0565.jpeg
END:VEVENT
END:VCALENDAR