BEGIN:VCALENDAR
VERSION:2.0
PRODID:-//BOPA - ECPv6.15.17.1//NONSGML v1.0//EN
CALSCALE:GREGORIAN
METHOD:PUBLISH
X-ORIGINAL-URL:https://www.bopa.org.uk
X-WR-CALDESC:Events for BOPA
REFRESH-INTERVAL;VALUE=DURATION:PT1H
X-Robots-Tag:noindex
X-PUBLISHED-TTL:PT1H
BEGIN:VTIMEZONE
TZID:Europe/London
BEGIN:DAYLIGHT
TZOFFSETFROM:+0000
TZOFFSETTO:+0100
TZNAME:BST
DTSTART:20250330T010000
END:DAYLIGHT
BEGIN:STANDARD
TZOFFSETFROM:+0100
TZOFFSETTO:+0000
TZNAME:GMT
DTSTART:20251026T010000
END:STANDARD
BEGIN:DAYLIGHT
TZOFFSETFROM:+0000
TZOFFSETTO:+0100
TZNAME:BST
DTSTART:20260329T010000
END:DAYLIGHT
BEGIN:STANDARD
TZOFFSETFROM:+0100
TZOFFSETTO:+0000
TZNAME:GMT
DTSTART:20261025T010000
END:STANDARD
BEGIN:DAYLIGHT
TZOFFSETFROM:+0000
TZOFFSETTO:+0100
TZNAME:BST
DTSTART:20270328T010000
END:DAYLIGHT
BEGIN:STANDARD
TZOFFSETFROM:+0100
TZOFFSETTO:+0000
TZNAME:GMT
DTSTART:20271031T010000
END:STANDARD
END:VTIMEZONE
BEGIN:VEVENT
DTSTART;TZID=Europe/London:20260605T120000
DTEND;TZID=Europe/London:20260605T160000
DTSTAMP:20260421T175450
CREATED:20260416T184654Z
LAST-MODIFIED:20260416T184654Z
UID:39536-1780660800-1780675200@www.bopa.org.uk
SUMMARY:NIHR INSIGHT Opening the Doors: Reimagining Inclusion in Health Research
DESCRIPTION:📅 Friday 5 June 2026  \n🕐 12:00–16:00  \n📍 1 Frith Street\, London W1D 3HZ \n✅ Register here \nAbout this event \nNIHR INSIGHT South London welcomes you to join us for an afternoon dedicated to making health and care research more inclusive\, equitable\, and representative. \nTogether\, we’ll explore how researchers can: \n\nDesign studies that reach all communities\nRemove barriers to participation\nBuild trust through meaningful engagement\nEnsure research is for everyone\n\nExpect thought‑provoking discussions\, lived-experiences stories and real examples of inclusive research in action. Whether you’re a researcher\, partner organisation\, or community contributor within South London\, your voice is essential. \nRegistration \nPlease register here. \nAbout the NIHR INSIGHT Programme South London \nThis event is organised by the NIHR INSIGHT Programme South London. Find out more about how the programme is inspiring students and early career practitioners to pursue research careers.
URL:https://www.bopa.org.uk/event/nihr-insight-opening-the-doors-reimagining-inclusion-in-health-research/
CATEGORIES:Announcements,Education and Training,Online Webinar
ATTACH;FMTTYPE=image/jpeg:https://www.bopa.org.uk/wp-content/uploads/2023/01/BOPA-Webinar-Final_Res-Black-Square-002.jpg
ORGANIZER;CN="British Oncology Pharmacy Association (BOPA)":MAILTO:contact@bopa.org.uk
END:VEVENT
END:VCALENDAR