BEGIN:VCALENDAR
VERSION:2.0
PRODID:-//BOPA - ECPv6.15.17.1//NONSGML v1.0//EN
CALSCALE:GREGORIAN
METHOD:PUBLISH
X-WR-CALNAME:BOPA
X-ORIGINAL-URL:https://www.bopa.org.uk
X-WR-CALDESC:Events for BOPA
REFRESH-INTERVAL;VALUE=DURATION:PT1H
X-Robots-Tag:noindex
X-PUBLISHED-TTL:PT1H
BEGIN:VTIMEZONE
TZID:Europe/London
BEGIN:DAYLIGHT
TZOFFSETFROM:+0000
TZOFFSETTO:+0100
TZNAME:BST
DTSTART:20240331T010000
END:DAYLIGHT
BEGIN:STANDARD
TZOFFSETFROM:+0100
TZOFFSETTO:+0000
TZNAME:GMT
DTSTART:20241027T010000
END:STANDARD
BEGIN:DAYLIGHT
TZOFFSETFROM:+0000
TZOFFSETTO:+0100
TZNAME:BST
DTSTART:20250330T010000
END:DAYLIGHT
BEGIN:STANDARD
TZOFFSETFROM:+0100
TZOFFSETTO:+0000
TZNAME:GMT
DTSTART:20251026T010000
END:STANDARD
BEGIN:DAYLIGHT
TZOFFSETFROM:+0000
TZOFFSETTO:+0100
TZNAME:BST
DTSTART:20260329T010000
END:DAYLIGHT
BEGIN:STANDARD
TZOFFSETFROM:+0100
TZOFFSETTO:+0000
TZNAME:GMT
DTSTART:20261025T010000
END:STANDARD
END:VTIMEZONE
BEGIN:VEVENT
DTSTART;VALUE=DATE:20250403
DTEND;VALUE=DATE:20250408
DTSTAMP:20260420T145213
CREATED:20241115T112306Z
LAST-MODIFIED:20241125T233113Z
UID:32373-1743638400-1744070399@www.bopa.org.uk
SUMMARY:ISOPP CAPhO Symposium 2025
DESCRIPTION:Join the International Society of Oncology Pharmacy Practitioners and the Canadian Association of Pharmacy Oncology for leading edge education to advance your oncology pharmacy practice and knowledge! The ISOPP CAPhO Symposium 2025 will take place April 3-6 (Symposium) and April 7 (Masterclasses) at the Victoria Conference Centre located in the vibrant heart of downtown Victoria\, British Columbia\, Canada\, where land meets sea and cultures converge.  \nThe Symposium will feature two CAPhO Workshops on Thursday\, April 3\, and two ISOPP Masterclasses on Monday\, April 7\, along with a range of sessions and networking opportunities. The Symposium promises to be a thought provoking\, wide ranging and impactful program of technical\, clinical and practice updates. You will: \n\ncompare practice with colleagues from around the world\nexplore strategies to enhance practice and patient outcomes\ncollaborate\, create and innovate in hot topic discussions\nbe challenged and inspired!\n\nThe theme “Global Insights\, Local Impact: Advancing a Community of Oncology Pharmacy Practice” will explore the critical role of oncology pharmacists\, pharmacy technicians and assistants in bridging global innovations with localized patient care. Bringing together oncology pharmacy professionals from around the world emphasizes the importance of sharing best practices and groundbreaking research to enhance treatment outcomes.  \nVisit the Symposium website for more information on the program\, registration\, venue\, and accommodations. Don’t forget to subscribe to the ISOPP CAPhO Symposium E-Newsletter for automatic updates about the event. \nJoin us in Victoria to connect\, learn\, and shape the future of oncology pharmacy together! \n 
URL:https://www.bopa.org.uk/event/isopp-capho-symposium-2025/
LOCATION:Victoria\, Canada\, 720 Douglas St\, Victoria\, BC V8W 3M7\, Canada\, British Columbia\, V8W 3M7\, Canada
ATTACH;FMTTYPE=image/jpeg:https://www.bopa.org.uk/wp-content/uploads/2024/11/ISOPP-CAPhO-2025-Banner.jpg
END:VEVENT
END:VCALENDAR